BEGIN:VCALENDAR
PRODID:-//nuDatenautomaten//framework iCal4j //DE
VERSION:2.0
CALSCALE:GREGORIAN
BEGIN:VTIMEZONE
TZID:Europe/Berlin
LAST-MODIFIED:20260306T231828Z
TZURL:https://www.tzurl.org/zoneinfo/Europe/Berlin
X-LIC-LOCATION:Europe/Berlin
X-PROLEPTIC-TZNAME:LMT
BEGIN:STANDARD
TZNAME:CET
TZOFFSETFROM:+005328
TZOFFSETTO:+0100
DTSTART:18930401T000000
END:STANDARD
BEGIN:DAYLIGHT
TZNAME:CEST
TZOFFSETFROM:+0100
TZOFFSETTO:+0200
DTSTART:19160430T230000
RDATE:19400401T020000
RDATE:19430329T020000
RDATE:19460414T020000
RDATE:19470406T030000
RDATE:19480418T020000
RDATE:19490410T020000
RDATE:19800406T020000
END:DAYLIGHT
BEGIN:STANDARD
TZNAME:CET
TZOFFSETFROM:+0200
TZOFFSETTO:+0100
DTSTART:19161001T010000
RDATE:19421102T030000
RDATE:19431004T030000
RDATE:19441002T030000
RDATE:19451118T030000
RDATE:19461007T030000
END:STANDARD
BEGIN:DAYLIGHT
TZNAME:CEST
TZOFFSETFROM:+0100
TZOFFSETTO:+0200
DTSTART:19170416T020000
RRULE:FREQ=YEARLY;UNTIL=19180415T010000Z;BYMONTH=4;BYDAY=3MO
END:DAYLIGHT
BEGIN:STANDARD
TZNAME:CET
TZOFFSETFROM:+0200
TZOFFSETTO:+0100
DTSTART:19170917T030000
RRULE:FREQ=YEARLY;UNTIL=19180916T010000Z;BYMONTH=9;BYDAY=3MO
END:STANDARD
BEGIN:DAYLIGHT
TZNAME:CEST
TZOFFSETFROM:+0100
TZOFFSETTO:+0200
DTSTART:19440403T020000
RRULE:FREQ=YEARLY;UNTIL=19450402T010000Z;BYMONTH=4;BYDAY=1MO
END:DAYLIGHT
BEGIN:DAYLIGHT
TZNAME:CEMT
TZOFFSETFROM:+0200
TZOFFSETTO:+0300
DTSTART:19450524T020000
RDATE:19470511T030000
END:DAYLIGHT
BEGIN:DAYLIGHT
TZNAME:CEST
TZOFFSETFROM:+0300
TZOFFSETTO:+0200
DTSTART:19450924T030000
RDATE:19470629T030000
END:DAYLIGHT
BEGIN:STANDARD
TZNAME:CET
TZOFFSETFROM:+0100
TZOFFSETTO:+0100
DTSTART:19460101T000000
RDATE:19800101T000000
END:STANDARD
BEGIN:STANDARD
TZNAME:CET
TZOFFSETFROM:+0200
TZOFFSETTO:+0100
DTSTART:19471005T030000
RRULE:FREQ=YEARLY;UNTIL=19491002T010000Z;BYMONTH=10;BYDAY=1SU
END:STANDARD
BEGIN:STANDARD
TZNAME:CET
TZOFFSETFROM:+0200
TZOFFSETTO:+0100
DTSTART:19800928T030000
RRULE:FREQ=YEARLY;UNTIL=19950924T010000Z;BYMONTH=9;BYDAY=-1SU
END:STANDARD
BEGIN:DAYLIGHT
TZNAME:CEST
TZOFFSETFROM:+0100
TZOFFSETTO:+0200
DTSTART:19810329T020000
RRULE:FREQ=YEARLY;BYMONTH=3;BYDAY=-1SU
END:DAYLIGHT
BEGIN:STANDARD
TZNAME:CET
TZOFFSETFROM:+0200
TZOFFSETTO:+0100
DTSTART:19961027T030000
RRULE:FREQ=YEARLY;BYMONTH=10;BYDAY=-1SU
END:STANDARD
END:VTIMEZONE
BEGIN:VEVENT
DTSTAMP:20260419T210223Z
DTSTART;TZID=Europe/Berlin:20260207T180000
DTEND;TZID=Europe/Berlin:20260207T210000
SUMMARY:1. Kreisklasse Gr. Süd TTG Morschen-Heina II vs TTC 1952 Todenhausen V (58)
UID:a7135c95-e533-4916-be3a-ca83527c2fc4
STATUS:CONFIRMED
LAST-MODIFIED:20250713T195705Z
DESCRIPTION: 1. Kreisklasse Süd\nBegegnungs-Nr: 58\nHeim: TTG Morschen-Heina II\nGast: TTC 1952 Todenhausen V\n\nAdresse: Jägerpfad 8\, 34326 Altmorschen\n
LOCATION:Jägerpfad 8\, 34326 Altmorschen
CATEGORIES:Saison 2025/26
END:VEVENT
BEGIN:VEVENT
DTSTAMP:20260419T210223Z
DTSTART;TZID=Europe/Berlin:20251213T170000
DTEND;TZID=Europe/Berlin:20251213T200000
SUMMARY:1. Kreisklasse Gr. Süd TTG Morschen-Heina II vs ESV Jahn 1871 Treysa III (55)
UID:bda997c3-e25a-4e15-83aa-77900ad51f39
STATUS:CONFIRMED
LAST-MODIFIED:20251212T114943Z
DESCRIPTION: 1. Kreisklasse Süd\nBegegnungs-Nr: 55\nHeim: TTG Morschen-Heina II\nGast: ESV Jahn 1871 Treysa III\n\nAdresse: Jägerpfad 8\, 34326 Altmorschen\n
LOCATION:Jägerpfad 8\, 34326 Altmorschen
CATEGORIES:Saison 2025/26
END:VEVENT
BEGIN:VEVENT
DTSTAMP:20260419T210223Z
DTSTART;TZID=Europe/Berlin:20251122T180000
DTEND;TZID=Europe/Berlin:20251122T210000
SUMMARY:1. Kreisklasse Gr. Süd TTG Morschen-Heina II vs SV RW Leimsfeld III (40)
UID:6ef48616-424a-41c5-b44a-c91a295887fc
STATUS:CONFIRMED
DESCRIPTION: 1. Kreisklasse Süd\nBegegnungs-Nr: 40\nHeim: TTG Morschen-Heina II\nGast: SV RW Leimsfeld III\n\nAdresse: Jägerpfad 8\, 34326 Altmorschen\n
LOCATION:Jägerpfad 8\, 34326 Altmorschen
CATEGORIES:Saison 2025/26
END:VEVENT
BEGIN:VEVENT
DTSTAMP:20260419T210223Z
DTSTART;TZID=Europe/Berlin:20251108T180000
DTEND;TZID=Europe/Berlin:20251108T210000
SUMMARY:1. Kreisklasse Gr. Süd TTG Morschen-Heina II vs TTC Neukirchen–Riebelsdorf VI (30)
UID:1fbc9ab5-887d-4a1c-82a3-3ea71bef2677
STATUS:CONFIRMED
LAST-MODIFIED:20251108T092302Z
DESCRIPTION: 1. Kreisklasse Süd\nBegegnungs-Nr: 30\nHeim: TTG Morschen-Heina II\nGast: TTC Neukirchen–Riebelsdorf VI\n\nAdresse: Schulstraße 3\, 36211 Alheim-Heinebach\n
LOCATION:Schulstraße 3\, 36211 Alheim-Heinebach
CATEGORIES:Saison 2025/26
END:VEVENT
BEGIN:VEVENT
DTSTAMP:20260419T210223Z
DTSTART;TZID=Europe/Berlin:20251025T180000
DTEND;TZID=Europe/Berlin:20251025T210000
SUMMARY:1. Kreisklasse Gr. Süd TTG Morschen-Heina II vs SV 1961 Dorheim II (21)
UID:b7c8b906-6ace-4a8e-b97f-5bedbd9ee5cc
STATUS:CONFIRMED
DESCRIPTION: 1. Kreisklasse Süd\nBegegnungs-Nr: 21\nHeim: TTG Morschen-Heina II\nGast: SV 1961 Dorheim II\n\nAdresse: Jägerpfad 8\, 34326 Altmorschen\n
LOCATION:Jägerpfad 8\, 34326 Altmorschen
CATEGORIES:Saison 2025/26
END:VEVENT
BEGIN:VEVENT
DTSTAMP:20260419T210223Z
DTSTART;TZID=Europe/Berlin:20250920T180000
DTEND;TZID=Europe/Berlin:20250920T210000
SUMMARY:1. Kreisklasse Gr. Süd TTG Morschen-Heina II vs TSV Eintr. 1863 Felsberg V (9)
UID:35cd1c8f-2a41-418d-8894-7dcf1330aa74
STATUS:CONFIRMED
DESCRIPTION: 1. Kreisklasse Süd\nBegegnungs-Nr: 9\nHeim: TTG Morschen-Heina II\nGast: TSV Eintr. 1863 Felsberg V\n\nAdresse: Jägerpfad 8\, 34326 Altmorschen\n
LOCATION:Jägerpfad 8\, 34326 Altmorschen
CATEGORIES:Saison 2025/26
END:VEVENT
BEGIN:VEVENT
DTSTAMP:20260419T210223Z
DTSTART;TZID=Europe/Berlin:20260425T180000
DTEND;TZID=Europe/Berlin:20260425T210000
SUMMARY:1. Kreisklasse Gr. Süd TTG Morschen-Heina II vs TTF Knüll Oberaula II (109)
UID:b53aaac4-5bb3-4761-975f-3f04d2867c07
STATUS:CONFIRMED
DESCRIPTION: 1. Kreisklasse Süd\nBegegnungs-Nr: 109\nHeim: TTG Morschen-Heina II\nGast: TTF Knüll Oberaula II\n\nAdresse: Jägerpfad 8\, 34326 Altmorschen\n
LOCATION:Jägerpfad 8\, 34326 Altmorschen
CATEGORIES:Saison 2025/26
END:VEVENT
BEGIN:VEVENT
DTSTAMP:20260419T210223Z
DTSTART;TZID=Europe/Berlin:20260314T180000
DTEND;TZID=Europe/Berlin:20260314T210000
SUMMARY:1. Kreisklasse Gr. Süd TTG Morschen-Heina II vs TSV 07/02 Ost-/Mosheim (91)
UID:f631756e-cbcb-43ba-9a03-189dd7b6b7cc
STATUS:CONFIRMED
DESCRIPTION: 1. Kreisklasse Süd\nBegegnungs-Nr: 91\nHeim: TTG Morschen-Heina II\nGast: TSV 07/02 Ost-/Mosheim\n\nAdresse: Jägerpfad 8\, 34326 Altmorschen\n
LOCATION:Jägerpfad 8\, 34326 Altmorschen
CATEGORIES:Saison 2025/26
END:VEVENT
BEGIN:VEVENT
DTSTAMP:20260419T210223Z
DTSTART;TZID=Europe/Berlin:20260228T180000
DTEND;TZID=Europe/Berlin:20260228T210000
SUMMARY:1. Kreisklasse Gr. Süd TTG Morschen-Heina II vs TTC Weißenborn (84)
UID:da6ee7cf-d785-4678-90ad-cac7e059a598
STATUS:CONFIRMED
DESCRIPTION: 1. Kreisklasse Süd\nBegegnungs-Nr: 84\nHeim: TTG Morschen-Heina II\nGast: TTC Weißenborn\n\nAdresse: Jägerpfad 8\, 34326 Altmorschen\n
LOCATION:Jägerpfad 8\, 34326 Altmorschen
CATEGORIES:Saison 2025/26
END:VEVENT
BEGIN:VEVENT
DTSTAMP:20260419T210223Z
DTSTART;TZID=Europe/Berlin:20260124T180000
DTEND;TZID=Europe/Berlin:20260124T210000
SUMMARY:1. Kreisklasse Gr. Süd TTG Morschen-Heina II vs TTV Udenborn/Wabern/Unshausen  V (64)
UID:a3c0ddde-6974-44e8-a4d3-72abacccb461
STATUS:CONFIRMED
DESCRIPTION: 1. Kreisklasse Süd\nBegegnungs-Nr: 64\nHeim: TTG Morschen-Heina II\nGast: TTV Udenborn/Wabern/Unshausen  V\n\nAdresse: Jägerpfad 8\, 34326 Altmorschen\n
LOCATION:Jägerpfad 8\, 34326 Altmorschen
CATEGORIES:Saison 2025/26
END:VEVENT
BEGIN:VEVENT
DTSTAMP:20260419T210223Z
DTSTART;TZID=Europe/Berlin:20251205T193000
DTEND;TZID=Europe/Berlin:20251205T223000
SUMMARY:1. Kreisklasse Gr. Süd TTF Knüll Oberaula II vs TTG Morschen-Heina II (47)
UID:5fedaa9d-36c8-4cac-981f-2bd2087b6761
STATUS:CONFIRMED
DESCRIPTION: 1. Kreisklasse Süd\nBegegnungs-Nr: 47\nHeim: TTF Knüll Oberaula II\nGast: TTG Morschen-Heina II\n\nAdresse: Böhlstraße 35\, 36280 Oberaula\n
LOCATION:Böhlstraße 35\, 36280 Oberaula
CATEGORIES:Saison 2025/26
END:VEVENT
BEGIN:VEVENT
DTSTAMP:20260419T210223Z
DTSTART;TZID=Europe/Berlin:20251101T183000
DTEND;TZID=Europe/Berlin:20251101T213000
SUMMARY:1. Kreisklasse Gr. Süd TTV Udenborn/Wabern/Unshausen  V vs TTG Morschen-Heina II (43)
UID:db9be2e6-4d94-4165-86c7-8b21ea50e2c2
STATUS:CONFIRMED
LAST-MODIFIED:20250820T143009Z
DESCRIPTION: 1. Kreisklasse Süd\nBegegnungs-Nr: 43\nHeim: TTV Udenborn/Wabern/Unshausen  V\nGast: TTG Morschen-Heina II\n\nAdresse: Mönchhofstr. \, 34590 Wabern-Uttershausen\n
LOCATION:Mönchhofstr. \, 34590 Wabern-Uttershausen
CATEGORIES:Saison 2025/26
END:VEVENT
BEGIN:VEVENT
DTSTAMP:20260419T210223Z
DTSTART;TZID=Europe/Berlin:20250908T194500
DTEND;TZID=Europe/Berlin:20250908T224500
SUMMARY:1. Kreisklasse Gr. Süd TSV 07/02 Ost-/Mosheim vs TTG Morschen-Heina II (1)
UID:90a22477-d467-4e8d-b350-11961b173976
STATUS:CONFIRMED
DESCRIPTION: 1. Kreisklasse Süd\nBegegnungs-Nr: 1\nHeim: TSV 07/02 Ost-/Mosheim\nGast: TTG Morschen-Heina II\n\nAdresse: An der Sporthalle 1\, Ostheim\n
LOCATION:An der Sporthalle 1\, Ostheim
CATEGORIES:Saison 2025/26
END:VEVENT
BEGIN:VEVENT
DTSTAMP:20260419T210223Z
DTSTART;TZID=Europe/Berlin:20251031T200000
DTEND;TZID=Europe/Berlin:20251031T230000
SUMMARY:1. Kreisklasse Gr. Süd TTC 1952 Todenhausen V vs TTG Morschen-Heina II (24)
UID:0435752d-2047-4243-ae5d-1a8a9bf198fb
STATUS:CONFIRMED
DESCRIPTION: 1. Kreisklasse Süd\nBegegnungs-Nr: 24\nHeim: TTC 1952 Todenhausen V\nGast: TTG Morschen-Heina II\n\nAdresse: Unterm Palmberg\, 34621 Frielendorf\n
LOCATION:Unterm Palmberg\, 34621 Frielendorf
CATEGORIES:Saison 2025/26
END:VEVENT
BEGIN:VEVENT
DTSTAMP:20260419T210223Z
DTSTART;TZID=Europe/Berlin:20251206T160000
DTEND;TZID=Europe/Berlin:20251206T190000
SUMMARY:1. Kreisklasse Gr. Süd TTC Weißenborn vs TTG Morschen-Heina II (18)
UID:d84badef-c131-482c-aeeb-b043084f2150
STATUS:CONFIRMED
LAST-MODIFIED:20250724T205210Z
DESCRIPTION: 1. Kreisklasse Süd\nBegegnungs-Nr: 18\nHeim: TTC Weißenborn\nGast: TTG Morschen-Heina II\n\nAdresse: Weißenborn\, 34633 Weißenborn\n
LOCATION:Weißenborn\, 34633 Weißenborn
CATEGORIES:Saison 2025/26
END:VEVENT
BEGIN:VEVENT
DTSTAMP:20260419T210223Z
DTSTART;TZID=Europe/Berlin:20260417T200000
DTEND;TZID=Europe/Berlin:20260417T230000
SUMMARY:1. Kreisklasse Gr. Süd TTC Neukirchen–Riebelsdorf VI vs TTG Morschen-Heina II (103)
UID:918662b4-ebbb-4f7a-a732-97abb21f2db1
STATUS:CONFIRMED
DESCRIPTION: 1. Kreisklasse Süd\nBegegnungs-Nr: 103\nHeim: TTC Neukirchen–Riebelsdorf VI\nGast: TTG Morschen-Heina II\n\nAdresse: Ziegenhainer Straße 12\, 34626 Neukirchen\n
LOCATION:Ziegenhainer Straße 12\, 34626 Neukirchen
CATEGORIES:Saison 2025/26
END:VEVENT
BEGIN:VEVENT
DTSTAMP:20260419T210223Z
DTSTART;TZID=Europe/Berlin:20260327T200000
DTEND;TZID=Europe/Berlin:20260327T230000
SUMMARY:1. Kreisklasse Gr. Süd TSV Eintr. 1863 Felsberg V vs TTG Morschen-Heina II (100)
UID:1187af20-165e-48b2-889e-964e8cff9130
STATUS:CONFIRMED
LAST-MODIFIED:20260315T132001Z
DESCRIPTION: 1. Kreisklasse Süd\nBegegnungs-Nr: 100\nHeim: TSV Eintr. 1863 Felsberg V\nGast: TTG Morschen-Heina II\n\nAdresse: Untere Birkenallee\, 34587 Felsberg\n
LOCATION:Untere Birkenallee\, 34587 Felsberg
CATEGORIES:Saison 2025/26
END:VEVENT
BEGIN:VEVENT
DTSTAMP:20260419T210223Z
DTSTART;TZID=Europe/Berlin:20260221T180000
DTEND;TZID=Europe/Berlin:20260221T210000
SUMMARY:1. Kreisklasse Gr. Süd SV 1961 Dorheim II vs TTG Morschen-Heina II (78)
UID:a9ce8313-dc60-499f-a7f3-a1325202d459
STATUS:CONFIRMED
DESCRIPTION: 1. Kreisklasse Süd\nBegegnungs-Nr: 78\nHeim: SV 1961 Dorheim II\nGast: TTG Morschen-Heina II\n\nAdresse: Stockackerweg \, 34599 Neuental-Dorheim\n
LOCATION:Stockackerweg \, 34599 Neuental-Dorheim
CATEGORIES:Saison 2025/26
END:VEVENT
BEGIN:VEVENT
DTSTAMP:20260419T210223Z
DTSTART;TZID=Europe/Berlin:20260211T194500
DTEND;TZID=Europe/Berlin:20260211T224500
SUMMARY:1. Kreisklasse Gr. Süd ESV Jahn 1871 Treysa III vs TTG Morschen-Heina II (72)
UID:1cec5643-b026-4588-8da9-aafc6ec8468c
STATUS:CONFIRMED
DESCRIPTION: 1. Kreisklasse Süd\nBegegnungs-Nr: 72\nHeim: ESV Jahn 1871 Treysa III\nGast: TTG Morschen-Heina II\n\nAdresse: Siebenbürger Weg 23\, 34613 Schwalmstadt-Treysa\n
LOCATION:Siebenbürger Weg 23\, 34613 Schwalmstadt-Treysa
CATEGORIES:Saison 2025/26
END:VEVENT
BEGIN:VEVENT
DTSTAMP:20260419T210223Z
DTSTART;TZID=Europe/Berlin:20260131T183000
DTEND;TZID=Europe/Berlin:20260131T213000
SUMMARY:1. Kreisklasse Gr. Süd SV RW Leimsfeld III vs TTG Morschen-Heina II (68)
UID:b0d813b9-0cb6-4795-b4da-ff0add8672d0
STATUS:CONFIRMED
DESCRIPTION: 1. Kreisklasse Süd\nBegegnungs-Nr: 68\nHeim: SV RW Leimsfeld III\nGast: TTG Morschen-Heina II\n\nAdresse: Zur Kirche 9\, 34621 Frielendorf-Leimsfeld\n
LOCATION:Zur Kirche 9\, 34621 Frielendorf-Leimsfeld
CATEGORIES:Saison 2025/26
END:VEVENT
END:VCALENDAR
